Package: FLAMES Version: 2.1.6 Command: /home/biocbuild/bbs-3.21-bioc/R/bin/R CMD INSTALL FLAMES StartedAt: 2025-02-20 16:08:38 -0500 (Thu, 20 Feb 2025) EndedAt: 2025-02-20 16:10:20 -0500 (Thu, 20 Feb 2025) EllapsedTime: 101.8 seconds RetCode: 0 Status: OK