Package: FLAMES Version: 2.1.6 Command: /home/biocbuild/bbs-3.21-bioc/R/bin/R CMD build --keep-empty-dirs --no-resave-data FLAMES StartedAt: 2025-02-20 17:27:59 -0500 (Thu, 20 Feb 2025) EndedAt: 2025-02-20 17:30:48 -0500 (Thu, 20 Feb 2025) EllapsedTime: 169.2 seconds RetCode: 0 Status: OK PackageFile: FLAMES_2.1.6.tar.gz PackageFileSize: 3.867 MiB