############################################################################## ############################################################################## ### ### Running command: ### ### /home/biocbuild/bbs-3.21-bioc/R/bin/R CMD build --keep-empty-dirs --no-resave-data FLAMES ### ############################################################################## ############################################################################## * checking for file ‘FLAMES/DESCRIPTION’ ... OK * preparing ‘FLAMES’: * checking DESCRIPTION meta-information ... OK * cleaning src * installing the package to build vignettes * creating vignettes ... OK * cleaning src * checking for LF line-endings in source and make files and shell scripts * checking for empty or unneeded directories NB: this package now depends on R (>= 4.2.0) WARNING: Added dependency on R >= 4.2.0 because package code uses the pipe placeholder syntax added in R 4.2.0 File(s) using such syntax: ‘sc_mutations.R’ * building ‘FLAMES_2.1.6.tar.gz’