Package: FLAMES Version: 2.1.6 Command: /Library/Frameworks/R.framework/Resources/bin/R CMD check --install=check:FLAMES.install-out.txt --library=/Library/Frameworks/R.framework/Resources/library --no-vignettes --timings FLAMES_2.1.6.tar.gz StartedAt: 2025-02-21 19:54:45 -0500 (Fri, 21 Feb 2025) EndedAt: 2025-02-21 19:58:18 -0500 (Fri, 21 Feb 2025) EllapsedTime: 213.7 seconds RetCode: 0 Status: OK CheckDir: FLAMES.Rcheck Warnings: 0