Package: FLAMES Version: 2.1.6 Command: /Library/Frameworks/R.framework/Resources/bin/R CMD build --keep-empty-dirs --no-resave-data FLAMES StartedAt: 2025-02-21 16:20:36 -0500 (Fri, 21 Feb 2025) EndedAt: 2025-02-21 16:22:03 -0500 (Fri, 21 Feb 2025) EllapsedTime: 87.0 seconds RetCode: 0 Status: OK PackageFile: FLAMES_2.1.6.tar.gz PackageFileSize: 3.908 MiB