Package: FLAMES Version: 2.1.6 Command: rm -rf FLAMES.buildbin-libdir && mkdir FLAMES.buildbin-libdir && /Users/biocbuild/BBS/utils/build-universal.sh FLAMES_2.1.6.tar.gz /Library/Frameworks/R.framework/Resources/bin/R FLAMES.buildbin-libdir StartedAt: 2025-02-21 22:56:26 -0500 (Fri, 21 Feb 2025) EndedAt: 2025-02-21 22:57:06 -0500 (Fri, 21 Feb 2025) EllapsedTime: 39.8 seconds RetCode: 0 Status: OK PackageFile: FLAMES_2.1.6.tgz PackageFileSize: 4.99 MiB