Package: FLAMES Version: 2.1.6 Maintainer: Changqing Wang MaintainerEmail: wang.ch at wehi.edu.au git_url: https://git.bioconductor.org/packages/FLAMES git_branch: devel git_last_commit: 925331f git_last_commit_date: 2025-02-13 23:39:29 -0500 (Thu, 13 Feb 2025)