Package: FISHalyseR Version: 1.41.0 Command: /Library/Frameworks/R.framework/Resources/bin/R CMD INSTALL FISHalyseR StartedAt: 2025-02-19 15:27:23 -0500 (Wed, 19 Feb 2025) EndedAt: 2025-02-19 15:27:30 -0500 (Wed, 19 Feb 2025) EllapsedTime: 7.3 seconds RetCode: 0 Status: OK