Package: FISHalyseR Version: 1.41.0 Command: /Library/Frameworks/R.framework/Resources/bin/R CMD check --install=check:FISHalyseR.install-out.txt --library=/Library/Frameworks/R.framework/Resources/library --no-vignettes --timings FISHalyseR_1.41.0.tar.gz StartedAt: 2025-02-19 19:18:47 -0500 (Wed, 19 Feb 2025) EndedAt: 2025-02-19 19:19:07 -0500 (Wed, 19 Feb 2025) EllapsedTime: 20.2 seconds RetCode: 0 Status: WARNINGS CheckDir: FISHalyseR.Rcheck Warnings: 2