Package: FGNet Version: 3.41.0 Command: /home/biocbuild/bbs-3.21-bioc/R/bin/R CMD build --keep-empty-dirs --no-resave-data FGNet StartedAt: 2025-02-20 17:27:34 -0500 (Thu, 20 Feb 2025) EndedAt: 2025-02-20 17:27:50 -0500 (Thu, 20 Feb 2025) EllapsedTime: 16.0 seconds RetCode: 0 Status: OK PackageFile: FGNet_3.41.0.tar.gz PackageFileSize: 2.72 MiB