Package: FGNet Version: 3.41.0 Command: /Library/Frameworks/R.framework/Resources/bin/R CMD INSTALL FGNet StartedAt: 2025-02-20 15:07:53 -0500 (Thu, 20 Feb 2025) EndedAt: 2025-02-20 15:08:15 -0500 (Thu, 20 Feb 2025) EllapsedTime: 21.6 seconds RetCode: 0 Status: OK