Package: FGNet Version: 3.41.0 Command: /Library/Frameworks/R.framework/Resources/bin/R CMD build --keep-empty-dirs --no-resave-data FGNet StartedAt: 2025-02-21 16:42:18 -0500 (Fri, 21 Feb 2025) EndedAt: 2025-02-21 16:42:44 -0500 (Fri, 21 Feb 2025) EllapsedTime: 26.2 seconds RetCode: 0 Status: OK PackageFile: FGNet_3.41.0.tar.gz PackageFileSize: 2.72 MiB