Package: FEAST Version: 1.15.0 Command: E:\biocbuild\bbs-3.21-bioc\R\bin\R.exe CMD INSTALL FEAST StartedAt: 2025-02-20 16:18:06 -0500 (Thu, 20 Feb 2025) EndedAt: 2025-02-20 16:18:44 -0500 (Thu, 20 Feb 2025) EllapsedTime: 39.0 seconds RetCode: 0 Status: OK