Package: FEAST Version: 1.15.0 Command: E:\biocbuild\bbs-3.21-bioc\R\bin\R.exe CMD check --no-multiarch --install=check:FEAST.install-out.txt --library=E:\biocbuild\bbs-3.21-bioc\R\library --no-vignettes --timings FEAST_1.15.0.tar.gz StartedAt: 2025-02-21 01:19:32 -0500 (Fri, 21 Feb 2025) EndedAt: 2025-02-21 01:23:14 -0500 (Fri, 21 Feb 2025) EllapsedTime: 221.8 seconds RetCode: 0 Status: OK CheckDir: FEAST.Rcheck Warnings: 0