Package: FEAST Version: 1.15.0 Command: chmod a+r FEAST -R && E:\biocbuild\bbs-3.21-bioc\R\bin\R.exe CMD build --keep-empty-dirs --no-resave-data FEAST StartedAt: 2025-02-20 18:45:12 -0500 (Thu, 20 Feb 2025) EndedAt: 2025-02-20 18:46:36 -0500 (Thu, 20 Feb 2025) EllapsedTime: 83.5 seconds RetCode: 0 Status: OK PackageFile: FEAST_1.15.0.tar.gz PackageFileSize: 3.373 MiB