Package: FEAST Version: 1.15.0 Command: /Library/Frameworks/R.framework/Resources/bin/R CMD INSTALL FEAST StartedAt: 2025-02-20 15:15:46 -0500 (Thu, 20 Feb 2025) EndedAt: 2025-02-20 15:15:58 -0500 (Thu, 20 Feb 2025) EllapsedTime: 12.1 seconds RetCode: 0 Status: OK