Package: FEAST Version: 1.15.0 Command: /Library/Frameworks/R.framework/Resources/bin/R CMD check --install=check:FEAST.install-out.txt --library=/Library/Frameworks/R.framework/Resources/library --no-vignettes --timings FEAST_1.15.0.tar.gz StartedAt: 2025-02-20 19:15:51 -0500 (Thu, 20 Feb 2025) EndedAt: 2025-02-20 19:17:08 -0500 (Thu, 20 Feb 2025) EllapsedTime: 76.9 seconds RetCode: 0 Status: OK CheckDir: FEAST.Rcheck Warnings: 0