Package: FEAST Version: 1.15.0 Command: rm -rf FEAST.buildbin-libdir && mkdir FEAST.buildbin-libdir && /Users/biocbuild/BBS/utils/build-universal.sh FEAST_1.15.0.tar.gz /Library/Frameworks/R.framework/Resources/bin/R FEAST.buildbin-libdir StartedAt: 2025-02-20 22:18:52 -0500 (Thu, 20 Feb 2025) EndedAt: 2025-02-20 22:19:06 -0500 (Thu, 20 Feb 2025) EllapsedTime: 14.4 seconds RetCode: 0 Status: OK PackageFile: FEAST_1.15.0.tgz PackageFileSize: 4.494 MiB