Package: ExpressionAtlas Version: 1.35.0 Command: /home/biocbuild/bbs-3.21-bioc/R/bin/R CMD INSTALL ExpressionAtlas StartedAt: 2025-02-19 15:48:32 -0500 (Wed, 19 Feb 2025) EndedAt: 2025-02-19 15:48:55 -0500 (Wed, 19 Feb 2025) EllapsedTime: 23.2 seconds RetCode: 0 Status: OK