Package: ExpressionAtlas Version: 1.35.0 Command: /Library/Frameworks/R.framework/Resources/bin/R CMD INSTALL ExpressionAtlas StartedAt: 2025-02-17 15:16:02 -0500 (Mon, 17 Feb 2025) EndedAt: 2025-02-17 15:16:11 -0500 (Mon, 17 Feb 2025) EllapsedTime: 9.0 seconds RetCode: 0 Status: OK