Package: ExpressionAtlas Version: 1.35.0 Command: rm -rf ExpressionAtlas.buildbin-libdir && mkdir ExpressionAtlas.buildbin-libdir && /Users/biocbuild/BBS/utils/build-universal.sh ExpressionAtlas_1.35.0.tar.gz /Library/Frameworks/R.framework/Resources/bin/R ExpressionAtlas.buildbin-libdir StartedAt: 2025-02-17 22:17:08 -0500 (Mon, 17 Feb 2025) EndedAt: 2025-02-17 22:17:20 -0500 (Mon, 17 Feb 2025) EllapsedTime: 11.2 seconds RetCode: 0 Status: OK PackageFile: ExpressionAtlas_1.35.0.tgz PackageFileSize: 346.7 KiB