Package: ExploreModelMatrix Version: 1.19.2 Command: chmod a+r ExploreModelMatrix -R && E:\biocbuild\bbs-3.21-bioc\R\bin\R.exe CMD build --keep-empty-dirs --no-resave-data ExploreModelMatrix StartedAt: 2025-02-19 18:40:42 -0500 (Wed, 19 Feb 2025) EndedAt: 2025-02-19 18:41:08 -0500 (Wed, 19 Feb 2025) EllapsedTime: 25.8 seconds RetCode: 0 Status: OK PackageFile: ExploreModelMatrix_1.19.2.tar.gz PackageFileSize: 2.424 MiB