Package: ExploreModelMatrix Version: 1.19.2 Command: /home/biocbuild/bbs-3.21-bioc/R/bin/R CMD INSTALL ExploreModelMatrix StartedAt: 2025-02-19 15:12:50 -0500 (Wed, 19 Feb 2025) EndedAt: 2025-02-19 15:12:59 -0500 (Wed, 19 Feb 2025) EllapsedTime: 8.5 seconds RetCode: 0 Status: OK