Package: ExperimentSubset Version: 1.17.0 Command: /home/biocbuild/bbs-3.21-bioc/R/bin/R CMD build --keep-empty-dirs --no-resave-data ExperimentSubset StartedAt: 2025-02-19 17:12:47 -0500 (Wed, 19 Feb 2025) EndedAt: 2025-02-19 17:13:34 -0500 (Wed, 19 Feb 2025) EllapsedTime: 47.2 seconds RetCode: 0 Status: OK PackageFile: ExperimentSubset_1.17.0.tar.gz PackageFileSize: 307.3 KiB