Package: ExperimentSubset Version: 1.17.0 Command: /Library/Frameworks/R.framework/Resources/bin/R CMD INSTALL ExperimentSubset StartedAt: 2025-02-19 15:13:04 -0500 (Wed, 19 Feb 2025) EndedAt: 2025-02-19 15:13:18 -0500 (Wed, 19 Feb 2025) EllapsedTime: 13.2 seconds RetCode: 0 Status: OK