Package: ExperimentSubset Version: 1.17.0 Command: /Library/Frameworks/R.framework/Resources/bin/R CMD build --keep-empty-dirs --no-resave-data ExperimentSubset StartedAt: 2025-02-19 16:19:24 -0500 (Wed, 19 Feb 2025) EndedAt: 2025-02-19 16:19:43 -0500 (Wed, 19 Feb 2025) EllapsedTime: 19.2 seconds RetCode: 0 Status: OK PackageFile: ExperimentSubset_1.17.0.tar.gz PackageFileSize: 307.4 KiB