Package: ExperimentHubData Version: 1.33.0 Command: E:\biocbuild\bbs-3.21-bioc\R\bin\R.exe CMD check --no-multiarch --install=check:ExperimentHubData.install-out.txt --library=E:\biocbuild\bbs-3.21-bioc\R\library --no-vignettes --timings ExperimentHubData_1.33.0.tar.gz StartedAt: 2025-02-21 01:14:48 -0500 (Fri, 21 Feb 2025) EndedAt: 2025-02-21 01:19:12 -0500 (Fri, 21 Feb 2025) EllapsedTime: 264.2 seconds RetCode: 0 Status: WARNINGS CheckDir: ExperimentHubData.Rcheck Warnings: 1