Package: ExperimentHubData Version: 1.33.0 Command: /home/biocbuild/bbs-3.21-bioc/R/bin/R CMD INSTALL ExperimentHubData StartedAt: 2025-02-20 16:00:04 -0500 (Thu, 20 Feb 2025) EndedAt: 2025-02-20 16:00:44 -0500 (Thu, 20 Feb 2025) EllapsedTime: 39.6 seconds RetCode: 0 Status: OK