Package: ExperimentHubData Version: 1.33.0 Command: /Library/Frameworks/R.framework/Resources/bin/R CMD INSTALL ExperimentHubData StartedAt: 2025-02-20 15:21:03 -0500 (Thu, 20 Feb 2025) EndedAt: 2025-02-20 15:21:57 -0500 (Thu, 20 Feb 2025) EllapsedTime: 53.6 seconds RetCode: 0 Status: OK