Package: ExperimentHubData Version: 1.33.0 Command: /Library/Frameworks/R.framework/Resources/bin/R CMD check --install=check:ExperimentHubData.install-out.txt --library=/Library/Frameworks/R.framework/Resources/library --no-vignettes --timings ExperimentHubData_1.33.0.tar.gz StartedAt: 2025-02-20 20:22:43 -0500 (Thu, 20 Feb 2025) EndedAt: 2025-02-20 20:27:54 -0500 (Thu, 20 Feb 2025) EllapsedTime: 310.8 seconds RetCode: 0 Status: WARNINGS CheckDir: ExperimentHubData.Rcheck Warnings: 1