Package: ExperimentHubData Version: 1.33.0 Command: /Library/Frameworks/R.framework/Resources/bin/R CMD build --keep-empty-dirs --no-resave-data ExperimentHubData StartedAt: 2025-02-20 16:40:06 -0500 (Thu, 20 Feb 2025) EndedAt: 2025-02-20 16:40:51 -0500 (Thu, 20 Feb 2025) EllapsedTime: 44.7 seconds RetCode: 0 Status: OK PackageFile: ExperimentHubData_1.33.0.tar.gz PackageFileSize: 223 KiB