Package: ExperimentHubData Version: 1.33.0 Command: rm -rf ExperimentHubData.buildbin-libdir && mkdir ExperimentHubData.buildbin-libdir && /Users/biocbuild/BBS/utils/build-universal.sh ExperimentHubData_1.33.0.tar.gz /Library/Frameworks/R.framework/Resources/bin/R ExperimentHubData.buildbin-libdir StartedAt: 2025-02-20 22:18:35 -0500 (Thu, 20 Feb 2025) EndedAt: 2025-02-20 22:18:53 -0500 (Thu, 20 Feb 2025) EllapsedTime: 17.4 seconds RetCode: 0 Status: OK PackageFile: ExperimentHubData_1.33.0.tgz PackageFileSize: 519.1 KiB