Package: ExperimentHub Version: 2.15.0 Command: /home/biocbuild/bbs-3.21-bioc/R/bin/R CMD INSTALL ExperimentHub StartedAt: 2025-02-20 15:34:53 -0500 (Thu, 20 Feb 2025) EndedAt: 2025-02-20 15:35:07 -0500 (Thu, 20 Feb 2025) EllapsedTime: 14.0 seconds RetCode: 0 Status: OK