Package: ExperimentHub Version: 2.15.0 Command: /Library/Frameworks/R.framework/Resources/bin/R CMD INSTALL ExperimentHub StartedAt: 2025-02-20 15:15:31 -0500 (Thu, 20 Feb 2025) EndedAt: 2025-02-20 15:15:51 -0500 (Thu, 20 Feb 2025) EllapsedTime: 19.5 seconds RetCode: 0 Status: OK