Package: ExperimentHub Version: 2.15.0 Command: rm -rf ExperimentHub.buildbin-libdir && mkdir ExperimentHub.buildbin-libdir && /Users/biocbuild/BBS/utils/build-universal.sh ExperimentHub_2.15.0.tar.gz /Library/Frameworks/R.framework/Resources/bin/R ExperimentHub.buildbin-libdir StartedAt: 2025-02-21 00:30:20 -0500 (Fri, 21 Feb 2025) EndedAt: 2025-02-21 00:30:41 -0500 (Fri, 21 Feb 2025) EllapsedTime: 21.9 seconds RetCode: 0 Status: OK PackageFile: ExperimentHub_2.15.0.tgz PackageFileSize: 420.8 KiB