Package: ExperimentHub Version: 2.15.0 Command: /Library/Frameworks/R.framework/Resources/bin/R CMD check --install=check:ExperimentHub.install-out.txt --library=/Library/Frameworks/R.framework/Resources/library --no-vignettes --timings ExperimentHub_2.15.0.tar.gz StartedAt: 2025-02-20 19:13:54 -0500 (Thu, 20 Feb 2025) EndedAt: 2025-02-20 19:14:37 -0500 (Thu, 20 Feb 2025) EllapsedTime: 42.5 seconds RetCode: 0 Status: WARNINGS CheckDir: ExperimentHub.Rcheck Warnings: 1