Package: ExiMiR Version: 2.49.0 Command: /Library/Frameworks/R.framework/Resources/bin/R CMD INSTALL ExiMiR StartedAt: 2025-02-19 15:06:28 -0500 (Wed, 19 Feb 2025) EndedAt: 2025-02-19 15:06:57 -0500 (Wed, 19 Feb 2025) EllapsedTime: 29.1 seconds RetCode: 0 Status: OK