Package: ExiMiR Version: 2.49.0 Command: rm -rf ExiMiR.buildbin-libdir && mkdir ExiMiR.buildbin-libdir && /Users/biocbuild/BBS/utils/build-universal.sh ExiMiR_2.49.0.tar.gz /Library/Frameworks/R.framework/Resources/bin/R ExiMiR.buildbin-libdir StartedAt: 2025-02-20 00:31:38 -0500 (Thu, 20 Feb 2025) EndedAt: 2025-02-20 00:31:47 -0500 (Thu, 20 Feb 2025) EllapsedTime: 9.3 seconds RetCode: 0 Status: OK PackageFile: ExiMiR_2.49.0.tgz PackageFileSize: 1.352 MiB