Package: ExCluster Version: 1.25.0 Command: /Library/Frameworks/R.framework/Resources/bin/R CMD INSTALL ExCluster StartedAt: 2025-02-19 15:17:08 -0500 (Wed, 19 Feb 2025) EndedAt: 2025-02-19 15:17:48 -0500 (Wed, 19 Feb 2025) EllapsedTime: 40.0 seconds RetCode: 0 Status: OK