Package: EpipwR Version: 1.1.0 Command: rm -rf EpipwR.buildbin-libdir && mkdir EpipwR.buildbin-libdir && E:\biocbuild\bbs-3.21-bioc\R\bin\R.exe CMD INSTALL --build --library=EpipwR.buildbin-libdir EpipwR_1.1.0.tar.gz StartedAt: 2025-02-21 08:03:21 -0500 (Fri, 21 Feb 2025) EndedAt: 2025-02-21 08:03:41 -0500 (Fri, 21 Feb 2025) EllapsedTime: 20.5 seconds RetCode: 0 Status: OK PackageFile: EpipwR_1.1.0.zip PackageFileSize: 119.3 KiB