Package: EpipwR Version: 1.1.0 Command: /home/biocbuild/bbs-3.21-bioc/R/bin/R CMD INSTALL EpipwR StartedAt: 2025-02-20 15:35:34 -0500 (Thu, 20 Feb 2025) EndedAt: 2025-02-20 15:35:48 -0500 (Thu, 20 Feb 2025) EllapsedTime: 14.0 seconds RetCode: 0 Status: OK