Package: EpipwR Version: 1.1.0 Command: /home/biocbuild/bbs-3.21-bioc/R/bin/R CMD build --keep-empty-dirs --no-resave-data EpipwR StartedAt: 2025-02-19 17:09:28 -0500 (Wed, 19 Feb 2025) EndedAt: 2025-02-19 17:09:48 -0500 (Wed, 19 Feb 2025) EllapsedTime: 20.0 seconds RetCode: 0 Status: OK PackageFile: EpipwR_1.1.0.tar.gz PackageFileSize: 122.4 KiB