Package: EpipwR Version: 1.1.0 Command: /Library/Frameworks/R.framework/Resources/bin/R CMD build --keep-empty-dirs --no-resave-data EpipwR StartedAt: 2025-02-19 16:37:33 -0500 (Wed, 19 Feb 2025) EndedAt: 2025-02-19 16:37:58 -0500 (Wed, 19 Feb 2025) EllapsedTime: 25.1 seconds RetCode: 0 Status: OK PackageFile: EpipwR_1.1.0.tar.gz PackageFileSize: 122.4 KiB