Package: EpiTxDb Version: 1.19.0 Command: chmod a+r EpiTxDb -R && E:\biocbuild\bbs-3.21-bioc\R\bin\R.exe CMD build --keep-empty-dirs --no-resave-data EpiTxDb StartedAt: 2025-02-19 18:36:43 -0500 (Wed, 19 Feb 2025) EndedAt: 2025-02-19 18:40:18 -0500 (Wed, 19 Feb 2025) EllapsedTime: 215.0 seconds RetCode: 0 Status: OK PackageFile: EpiTxDb_1.19.0.tar.gz PackageFileSize: 698.1 KiB