Package: EpiTxDb Version: 1.19.0 Command: /Library/Frameworks/R.framework/Resources/bin/R CMD build --keep-empty-dirs --no-resave-data EpiTxDb StartedAt: 2025-02-19 16:38:11 -0500 (Wed, 19 Feb 2025) EndedAt: 2025-02-19 16:41:08 -0500 (Wed, 19 Feb 2025) EllapsedTime: 177.0 seconds RetCode: 0 Status: OK PackageFile: EpiTxDb_1.19.0.tar.gz PackageFileSize: 778.1 KiB