Package: EpiMix Version: 1.9.0 Command: rm -rf EpiMix.buildbin-libdir && mkdir EpiMix.buildbin-libdir && E:\biocbuild\bbs-3.21-bioc\R\bin\R.exe CMD INSTALL --build --library=EpiMix.buildbin-libdir EpiMix_1.9.0.tar.gz StartedAt: 2025-02-20 07:45:02 -0500 (Thu, 20 Feb 2025) EndedAt: 2025-02-20 07:46:21 -0500 (Thu, 20 Feb 2025) EllapsedTime: 79.3 seconds RetCode: 0 Status: OK PackageFile: EpiMix_1.9.0.zip PackageFileSize: 1.917 MiB