Package: EpiDISH Version: 2.23.1 Command: rm -rf EpiDISH.buildbin-libdir && mkdir EpiDISH.buildbin-libdir && E:\biocbuild\bbs-3.21-bioc\R\bin\R.exe CMD INSTALL --build --library=EpiDISH.buildbin-libdir EpiDISH_2.23.1.tar.gz StartedAt: 2025-02-21 08:03:05 -0500 (Fri, 21 Feb 2025) EndedAt: 2025-02-21 08:03:20 -0500 (Fri, 21 Feb 2025) EllapsedTime: 14.5 seconds RetCode: 0 Status: OK PackageFile: EpiDISH_2.23.1.zip PackageFileSize: 2.107 MiB