Package: EpiDISH Version: 2.23.1 Command: /home/biocbuild/bbs-3.21-bioc/R/bin/R CMD INSTALL EpiDISH StartedAt: 2025-02-20 15:08:26 -0500 (Thu, 20 Feb 2025) EndedAt: 2025-02-20 15:08:31 -0500 (Thu, 20 Feb 2025) EllapsedTime: 5.2 seconds RetCode: 0 Status: OK