Package: EpiDISH Version: 2.23.1 Command: rm -rf EpiDISH.buildbin-libdir && mkdir EpiDISH.buildbin-libdir && /Users/biocbuild/BBS/utils/build-universal.sh EpiDISH_2.23.1.tar.gz /Library/Frameworks/R.framework/Resources/bin/R EpiDISH.buildbin-libdir StartedAt: 2025-02-21 00:29:42 -0500 (Fri, 21 Feb 2025) EndedAt: 2025-02-21 00:29:53 -0500 (Fri, 21 Feb 2025) EllapsedTime: 10.5 seconds RetCode: 0 Status: OK PackageFile: EpiDISH_2.23.1.tgz PackageFileSize: 2.112 MiB