Package: EpiDISH Version: 2.23.1 Command: /Library/Frameworks/R.framework/Resources/bin/R CMD build --keep-empty-dirs --no-resave-data EpiDISH StartedAt: 2025-02-20 16:16:18 -0500 (Thu, 20 Feb 2025) EndedAt: 2025-02-20 16:16:24 -0500 (Thu, 20 Feb 2025) EllapsedTime: 6.1 seconds RetCode: 0 Status: OK PackageFile: EpiDISH_2.23.1.tar.gz PackageFileSize: 3.099 MiB